BEGIN:VCALENDAR
VERSION:2.0
PRODID:-//www.hfhplymouth.org//NONSGML kigkonsult.se iCalcreator 2.30.10//
CALSCALE:GREGORIAN
METHOD:PUBLISH
UID:09c00bbe-fa30-49b0-80ad-0b5521315ee0
X-WR-CALDESC:The HFHGP Board of Directors meets on the fourth Thursday of e
 very month.  Until in-person meetings resume\, meetings are done by ZOOM.
X-WR-RELCALID:93187030552d777daad0c85601f54641
X-WR-TIMEZONE:America/New_York
BEGIN:VTIMEZONE
TZID:America/New_York
BEGIN:STANDARD
TZNAME:EST
DTSTART:20291104T020000
TZOFFSETFROM:-0400
TZOFFSETTO:-0500
RDATE:20301103T020000
END:STANDARD
BEGIN:DAYLIGHT
TZNAME:EDT
DTSTART:20290311T020000
TZOFFSETFROM:-0500
TZOFFSETTO:-0400
RDATE:20300310T020000
RDATE:20310309T020000
END:DAYLIGHT
END:VTIMEZONE
BEGIN:VEVENT
UID:35acd04c-7c60-4b97-b12a-77e2426fb502
DTSTAMP:20260425T200848Z
DESCRIPTION:The HFHGP Board of Directors meets on the fourth Thursday of ev
 ery month.  Until in-person meetings resume\, meetings are done by ZOOM.
DTSTART;TZID=America/New_York:20291122T180000
DTEND;TZID=America/New_York:20291122T200000
LOCATION:160 North Main Street\, Carver\, MA 02330 US
SUMMARY:Board of Directors Meeting
END:VEVENT
END:VCALENDAR
