BEGIN:VCALENDAR
VERSION:2.0
PRODID:-//www.hfhplymouth.org//NONSGML kigkonsult.se iCalcreator 2.30.10//
CALSCALE:GREGORIAN
METHOD:PUBLISH
UID:82cab3f9-0146-47b0-b080-881bee7711e7
X-WR-CALDESC:The HFHGP Board of Directors meets on the fourth Thursday of e
 very month.  Until in-person meetings resume\, meetings are done by ZOOM.
X-WR-RELCALID:8f8927d6268cd124fb28bad99d6bc7c0
X-WR-TIMEZONE:America/New_York
BEGIN:VTIMEZONE
TZID:America/New_York
BEGIN:STANDARD
TZNAME:EST
DTSTART:20281105T020000
TZOFFSETFROM:-0400
TZOFFSETTO:-0500
RDATE:20291104T020000
RDATE:20301103T020000
END:STANDARD
BEGIN:DAYLIGHT
TZNAME:EDT
DTSTART:20290311T020000
TZOFFSETFROM:-0500
TZOFFSETTO:-0400
RDATE:20300310T020000
END:DAYLIGHT
END:VTIMEZONE
BEGIN:VEVENT
UID:1c99ec43-edd5-47f9-a4c4-a9ab7006032b
DTSTAMP:20260425T141443Z
DESCRIPTION:The HFHGP Board of Directors meets on the fourth Thursday of ev
 ery month.  Until in-person meetings resume\, meetings are done by ZOOM.
DTSTART;TZID=America/New_York:20290726T180000
DTEND;TZID=America/New_York:20290726T200000
LOCATION:160 North Main Street\, Carver\, MA 02330 US
SUMMARY:Board of Directors Meeting
END:VEVENT
END:VCALENDAR
