BEGIN:VCALENDAR
VERSION:2.0
PRODID:-//www.hfhplymouth.org//NONSGML kigkonsult.se iCalcreator 2.30.10//
CALSCALE:GREGORIAN
METHOD:PUBLISH
UID:a554a625-2f67-4184-8544-e5793b441129
X-WR-CALDESC:The HFHGP Board of Directors meets on the fourth Thursday of e
 very month.  Until in-person meetings resume\, meetings are done by ZOOM.
X-WR-RELCALID:f59b825959ba77f5c85ba947450126bc
X-WR-TIMEZONE:America/New_York
BEGIN:VTIMEZONE
TZID:America/New_York
BEGIN:STANDARD
TZNAME:EST
DTSTART:20251102T020000
TZOFFSETFROM:-0400
TZOFFSETTO:-0500
RDATE:20261101T020000
RDATE:20271107T020000
END:STANDARD
BEGIN:DAYLIGHT
TZNAME:EDT
DTSTART:20260308T020000
TZOFFSETFROM:-0500
TZOFFSETTO:-0400
RDATE:20270314T020000
END:DAYLIGHT
END:VTIMEZONE
BEGIN:VEVENT
UID:124c699f-1f0f-46df-bb3f-374660962362
DTSTAMP:20260423T074140Z
DESCRIPTION:The HFHGP Board of Directors meets on the fourth Thursday of ev
 ery month.  Until in-person meetings resume\, meetings are done by ZOOM.
DTSTART;TZID=America/New_York:20260723T180000
DTEND;TZID=America/New_York:20260723T200000
LOCATION:160 North Main Street\, Carver\, MA 02330 US
SUMMARY:Board of Directors Meeting
END:VEVENT
END:VCALENDAR
