BEGIN:VCALENDAR
VERSION:2.0
PRODID:-//www.hfhplymouth.org//NONSGML kigkonsult.se iCalcreator 2.30.10//
CALSCALE:GREGORIAN
METHOD:PUBLISH
UID:55f00281-7485-45f0-8e21-33c5b94f388c
X-WR-CALDESC:We have proudly partnered with the American Red Cross to hold 
 our very first blood drive at the ReStore! On January 8\, we'll roll up ou
 r sleeves and help save lives. The Red Cross has over 135 years of experie
 nce providing humanitarian aid--including more than 75 years of supplying 
 blood to those in need.\n\nEach donor who attends will receive $10 ReStore
  bucks as a thank you for your participation!
X-WR-RELCALID:74ea29b4358520bb312505f3ae7190fb
X-WR-TIMEZONE:America/New_York
BEGIN:VTIMEZONE
TZID:America/New_York
BEGIN:STANDARD
TZNAME:EST
DTSTART:20251102T020000
TZOFFSETFROM:-0400
TZOFFSETTO:-0500
RDATE:20261101T020000
END:STANDARD
BEGIN:DAYLIGHT
TZNAME:EDT
DTSTART:20250309T020000
TZOFFSETFROM:-0500
TZOFFSETTO:-0400
RDATE:20260308T020000
RDATE:20270314T020000
END:DAYLIGHT
END:VTIMEZONE
BEGIN:VEVENT
UID:1e9250f4-6997-41b6-b753-3565aa461e55
DTSTAMP:20260423T073823Z
DESCRIPTION:We have proudly partnered with the American Red Cross to hold o
 ur very first blood drive at the ReStore! On January 8\, we'll roll up our
  sleeves and help save lives. The Red Cross has over 135 years of experien
 ce providing humanitarian aid--including more than 75 years of supplying b
 lood to those in need.\n\nEach donor who attends will receive $10 ReStore 
 bucks as a thank you for your participation!
DTSTART;TZID=America/New_York:20260108T113000
DTEND;TZID=America/New_York:20260108T160000
LOCATION:160 North Main Street\, Carver\, MA 02330 US
SUMMARY:ReStore the Blood Supply
END:VEVENT
END:VCALENDAR
