BEGIN:VCALENDAR
VERSION:2.0
PRODID:-//www.hfhplymouth.org//NONSGML kigkonsult.se iCalcreator 2.30.10//
CALSCALE:GREGORIAN
METHOD:PUBLISH
UID:85694b96-6964-4965-b021-c663a038f43f
X-WR-CALDESC:Mark your calendar\, the date for the 2025 Hearts & Hammers Ga
 la is official! We'll see you at Jones River Trading Post on Friday\, Octo
 ber 17\, 2025 for this year's Hearts & Hammers Gala.\n\nFor more informati
 on or to sponsor this event\, please visit our event website below.
X-WR-RELCALID:6364c7fccc7723f07030e48bff51f082
X-WR-TIMEZONE:America/New_York
BEGIN:VTIMEZONE
TZID:America/New_York
BEGIN:STANDARD
TZNAME:EST
DTSTART:20241103T020000
TZOFFSETFROM:-0400
TZOFFSETTO:-0500
RDATE:20251102T020000
RDATE:20261101T020000
END:STANDARD
BEGIN:DAYLIGHT
TZNAME:EDT
DTSTART:20250309T020000
TZOFFSETFROM:-0500
TZOFFSETTO:-0400
RDATE:20260308T020000
RDATE:20270314T020000
END:DAYLIGHT
END:VTIMEZONE
BEGIN:VEVENT
UID:24e9a6ed-96a2-43e6-9e68-b4b2d4e1d832
DTSTAMP:20260423T125534Z
DESCRIPTION:Mark your calendar\, the date for the 2025 Hearts & Hammers Gal
 a is official! We'll see you at Jones River Trading Post on Friday\, Octob
 er 17\, 2025 for this year's Hearts & Hammers Gala.\n\nFor more informatio
 n or to sponsor this event\, please visit our event website below.
DTSTART;TZID=America/New_York:20251017T180000
DTEND;TZID=America/New_York:20251017T220000
LOCATION:Jones River Trading Post\, 42 Elm Street\, Kingston\, MA 02364 US
SUMMARY:2025 Hearts & Hammers Gala
END:VEVENT
END:VCALENDAR
