BEGIN:VCALENDAR
VERSION:2.0
PRODID:-//www.hfhplymouth.org//NONSGML kigkonsult.se iCalcreator 2.30.10//
CALSCALE:GREGORIAN
METHOD:PUBLISH
UID:ce06858e-cab0-4c60-932d-e06cd632d290
X-WR-CALDESC:We are delighted to invite you to Alden Park’s Kentucky Derby 
 Party\, this year benefiting Habitat for Humanity of Greater Plymouth! Sta
 rting at 3:00 PM (VIP entry at 2:00 PM)\, enjoy live music\, photographers
 \, red carpet\, photo booth\, door prizes\, 50/50 drawings\, silent auctio
 n\, and contests for best dressed and best derby hat. The festivities will
  lead up to the running of the 151st Kentucky Derby just before 7:00 PM.\n
 \nFor this special occasion\, the restaurant will be closed to the public 
 and transformed into a remarkable Kentucky Derby-themed venue. Dress up in
  your fancy dresses\, hats\, and seersucker suits for a fun event while su
 pporting a great cause! We look forward to your presence at this distingui
 shed gathering.\n\nVisit Alden Park's Website (below) for more information
  and to buy your tickets today!
X-WR-RELCALID:6eae61f0a866620cb5f61b1204ae988d
X-WR-TIMEZONE:America/New_York
BEGIN:VTIMEZONE
TZID:America/New_York
BEGIN:STANDARD
TZNAME:EST
DTSTART:20241103T020000
TZOFFSETFROM:-0400
TZOFFSETTO:-0500
RDATE:20251102T020000
RDATE:20261101T020000
END:STANDARD
BEGIN:DAYLIGHT
TZNAME:EDT
DTSTART:20250309T020000
TZOFFSETFROM:-0500
TZOFFSETTO:-0400
RDATE:20260308T020000
END:DAYLIGHT
END:VTIMEZONE
BEGIN:VEVENT
UID:34fda222-1e30-449e-aecc-b04059e21b38
DTSTAMP:20260423T205546Z
DESCRIPTION:We are delighted to invite you to Alden Park’s Kentucky Derby P
 arty\, this year benefiting Habitat for Humanity of Greater Plymouth! Star
 ting at 3:00 PM (VIP entry at 2:00 PM)\, enjoy live music\, photographers\
 , red carpet\, photo booth\, door prizes\, 50/50 drawings\, silent auction
 \, and contests for best dressed and best derby hat. The festivities will 
 lead up to the running of the 151st Kentucky Derby just before 7:00 PM.\n
 \nFor this special occasion\, the restaurant will be closed to the public 
 and transformed into a remarkable Kentucky Derby-themed venue. Dress up in
  your fancy dresses\, hats\, and seersucker suits for a fun event while su
 pporting a great cause! We look forward to your presence at this distingui
 shed gathering.\n\nVisit Alden Park's Website (below) for more information
  and to buy your tickets today!
DTSTART;TZID=America/New_York:20250503T150000
DTEND;TZID=America/New_York:20250503T190000
LOCATION:Alden Park Restaurant\, 160 Colony Place\, Plymouth\, MA 02360 US
SUMMARY:Alden Park's Kentucky Derby Party
END:VEVENT
END:VCALENDAR
