BEGIN:VCALENDAR
VERSION:2.0
PRODID:-//www.hfhplymouth.org//NONSGML kigkonsult.se iCalcreator 2.30.10//
CALSCALE:GREGORIAN
METHOD:PUBLISH
UID:1f04592a-39f0-4c30-bd77-f64b15cff3e7
X-WR-CALDESC:
X-WR-RELCALID:8b6412a354b4d8da261c2d6c7b64dfe8
X-WR-TIMEZONE:America/New_York
BEGIN:VTIMEZONE
TZID:America/New_York
BEGIN:STANDARD
TZNAME:EST
DTSTART:20231105T020000
TZOFFSETFROM:-0400
TZOFFSETTO:-0500
RDATE:20241103T020000
RDATE:20251102T020000
END:STANDARD
BEGIN:DAYLIGHT
TZNAME:EDT
DTSTART:20240310T020000
TZOFFSETFROM:-0500
TZOFFSETTO:-0400
RDATE:20250309T020000
RDATE:20260308T020000
END:DAYLIGHT
END:VTIMEZONE
BEGIN:VEVENT
UID:8953b263-3a6e-4856-975b-751c4541516f
DTSTAMP:20260424T055426Z
DESCRIPTION:
DTSTART;TZID=America/New_York:20241101T180000
DTEND;TZID=America/New_York:20241101T220000
LOCATION:42 Elm Street\, Kingston\, MA 02364 US
SUMMARY:2024 Hearts & Hammers Gala
END:VEVENT
END:VCALENDAR
