BEGIN:VCALENDAR
VERSION:2.0
PRODID:-//www.hfhplymouth.org//NONSGML kigkonsult.se iCalcreator 2.30.10//
CALSCALE:GREGORIAN
METHOD:PUBLISH
UID:09db200f-0822-4dcb-b722-d9cdf416fba4
X-WR-CALDESC:The HFHGP Board of Directors meets on the fourth Thursday of e
 very month.  Until in-person meetings resume\, meetings are done by ZOOM.
X-WR-RELCALID:55ed08bdac3cb3d84c6d33cff07811e5
X-WR-TIMEZONE:America/New_York
BEGIN:VTIMEZONE
TZID:America/New_York
BEGIN:STANDARD
TZNAME:EST
DTSTART:20231105T020000
TZOFFSETFROM:-0400
TZOFFSETTO:-0500
RDATE:20241103T020000
RDATE:20251102T020000
END:STANDARD
BEGIN:DAYLIGHT
TZNAME:EDT
DTSTART:20240310T020000
TZOFFSETFROM:-0500
TZOFFSETTO:-0400
RDATE:20250309T020000
RDATE:20260308T020000
END:DAYLIGHT
END:VTIMEZONE
BEGIN:VEVENT
UID:a93a3082-255e-4fc8-9a0c-dc4c76cd2fde
DTSTAMP:20260424T073833Z
DESCRIPTION:The HFHGP Board of Directors meets on the fourth Thursday of ev
 ery month.  Until in-person meetings resume\, meetings are done by ZOOM.
DTSTART;TZID=America/New_York:20241024T180000
DTEND;TZID=America/New_York:20241024T200000
LOCATION:160 North Main Street\, Carver\, MA 02330 US
SUMMARY:Board of Directors Meeting
END:VEVENT
END:VCALENDAR
