BEGIN:VCALENDAR
VERSION:2.0
PRODID:-//www.hfhplymouth.org//NONSGML kigkonsult.se iCalcreator 2.30.10//
CALSCALE:GREGORIAN
METHOD:PUBLISH
UID:0fb0e298-2fd1-4c1e-bf18-8f5548f591d0
X-WR-CALDESC:We have an open application window for Habitat homeownership u
 ntil Sept. 3rd.  Learn all about the homeowner eligibility and the applica
 tion process at this helpful Information Session.  Attendance is not manda
 tory to apply but strongly encouraged.
X-WR-RELCALID:e295faa523c961c0ed504b656e6763cc
X-WR-TIMEZONE:America/New_York
BEGIN:VTIMEZONE
TZID:America/New_York
BEGIN:STANDARD
TZNAME:EST
DTSTART:20231105T020000
TZOFFSETFROM:-0400
TZOFFSETTO:-0500
RDATE:20241103T020000
RDATE:20251102T020000
END:STANDARD
BEGIN:DAYLIGHT
TZNAME:EDT
DTSTART:20240310T020000
TZOFFSETFROM:-0500
TZOFFSETTO:-0400
RDATE:20250309T020000
END:DAYLIGHT
END:VTIMEZONE
BEGIN:VEVENT
UID:db9a8219-d3ba-4861-a124-7dc50b366fd4
DTSTAMP:20260424T103910Z
DESCRIPTION:We have an open application window for Habitat homeownership un
 til Sept. 3rd.  Learn all about the homeowner eligibility and the applicat
 ion process at this helpful Information Session.  Attendance is not mandat
 ory to apply but strongly encouraged.
DTSTART;TZID=America/New_York:20240818T150000
DTEND;TZID=America/New_York:20240818T163000
LOCATION:Habitat ReStore\, 160 N. Main Street\, Carver\, MA 02330 US
SUMMARY:Homeowner Application Information Session
END:VEVENT
END:VCALENDAR
