BEGIN:VCALENDAR
VERSION:2.0
PRODID:-//www.hfhplymouth.org//NONSGML kigkonsult.se iCalcreator 2.30.10//
CALSCALE:GREGORIAN
METHOD:PUBLISH
UID:34f60da0-9a90-4bc5-b0cb-b7c79086aa1a
X-WR-CALDESC:We have an open application window until Sept. 3rd.  Learn all
  about the homeowner applicant eligibility and application process at this
  helpful Information Session.  Attendance is not mandatory to apply but st
 rongly encouraged.
X-WR-RELCALID:6741459ae7d895e99e35f81a97926108
X-WR-TIMEZONE:America/New_York
BEGIN:VTIMEZONE
TZID:America/New_York
BEGIN:STANDARD
TZNAME:EST
DTSTART:20231105T020000
TZOFFSETFROM:-0400
TZOFFSETTO:-0500
RDATE:20241103T020000
RDATE:20251102T020000
END:STANDARD
BEGIN:DAYLIGHT
TZNAME:EDT
DTSTART:20240310T020000
TZOFFSETFROM:-0500
TZOFFSETTO:-0400
RDATE:20250309T020000
END:DAYLIGHT
END:VTIMEZONE
BEGIN:VEVENT
UID:348d43df-ba84-4a9e-9109-602638273d55
DTSTAMP:20260424T105137Z
DESCRIPTION:We have an open application window until Sept. 3rd.  Learn all 
 about the homeowner applicant eligibility and application process at this 
 helpful Information Session.  Attendance is not mandatory to apply but str
 ongly encouraged.
DTSTART;TZID=America/New_York:20240813T190000
DTEND;TZID=America/New_York:20240813T200000
LOCATION:Plymouth Public Library\, Craft Room\, Plymouth\, MA 02360 US
SUMMARY:Homeowner Application Information Session
END:VEVENT
END:VCALENDAR
