BEGIN:VCALENDAR
VERSION:2.0
PRODID:-//www.hfhplymouth.org//NONSGML kigkonsult.se iCalcreator 2.30.10//
CALSCALE:GREGORIAN
METHOD:PUBLISH
UID:1f970ab7-a098-479e-a05a-08467f89f8b0
X-WR-CALDESC:The HFHGP Board of Directors meets on the fourth Thursday of e
 very month.  Until in-person meetings resume\, meetings are done by ZOOM.
X-WR-RELCALID:f07b163954938f7c130236c633e7b099
X-WR-TIMEZONE:America/New_York
BEGIN:VTIMEZONE
TZID:America/New_York
BEGIN:STANDARD
TZNAME:EST
DTSTART:20231105T020000
TZOFFSETFROM:-0400
TZOFFSETTO:-0500
RDATE:20241103T020000
END:STANDARD
BEGIN:DAYLIGHT
TZNAME:EDT
DTSTART:20230312T020000
TZOFFSETFROM:-0500
TZOFFSETTO:-0400
RDATE:20240310T020000
RDATE:20250309T020000
END:DAYLIGHT
END:VTIMEZONE
BEGIN:VEVENT
UID:7b41dc89-6f33-49ec-a271-7153c0db0125
DTSTAMP:20260424T191950Z
DESCRIPTION:The HFHGP Board of Directors meets on the fourth Thursday of ev
 ery month.  Until in-person meetings resume\, meetings are done by ZOOM.
DTSTART;TZID=America/New_York:20240222T180000
DTEND;TZID=America/New_York:20240222T200000
LOCATION:160 North Main Street\, Carver\, MA 02330 US
SUMMARY:Board of Directors Meeting
END:VEVENT
END:VCALENDAR
