BEGIN:VCALENDAR
VERSION:2.0
PRODID:-//www.hfhplymouth.org//NONSGML kigkonsult.se iCalcreator 2.30.10//
CALSCALE:GREGORIAN
METHOD:PUBLISH
UID:198aed3b-feb9-4ba0-b7cd-f54175c74b8c
X-WR-CALDESC:Join us for our biggest fundraiser of the year! \nFestivities 
 full of Auctions\, Music\, Special Guests\, Delicious Food & Great Camarad
 erie!
X-WR-RELCALID:6115f13af2e88474fb6b68dcd11708fe
X-WR-TIMEZONE:America/New_York
BEGIN:VTIMEZONE
TZID:America/New_York
BEGIN:STANDARD
TZNAME:EST
DTSTART:20221106T020000
TZOFFSETFROM:-0400
TZOFFSETTO:-0500
RDATE:20231105T020000
RDATE:20241103T020000
END:STANDARD
BEGIN:DAYLIGHT
TZNAME:EDT
DTSTART:20230312T020000
TZOFFSETFROM:-0500
TZOFFSETTO:-0400
RDATE:20240310T020000
RDATE:20250309T020000
END:DAYLIGHT
END:VTIMEZONE
BEGIN:VEVENT
UID:486fa070-0952-407e-925e-f38245c718c2
DTSTAMP:20260425T014121Z
DESCRIPTION:Join us for our biggest fundraiser of the year! \nFestivities f
 ull of Auctions\, Music\, Special Guests\, Delicious Food & Great Camarade
 rie!
DTSTART;TZID=America/New_York:20231013T180000
DTEND;TZID=America/New_York:20231013T220000
LOCATION:Jones River Trading Post\, Kingston\, MA
SUMMARY:Annual Hearts & Hammers Gala
END:VEVENT
END:VCALENDAR
