BEGIN:VCALENDAR
VERSION:2.0
PRODID:-//www.hfhplymouth.org//NONSGML kigkonsult.se iCalcreator 2.30.10//
CALSCALE:GREGORIAN
METHOD:PUBLISH
UID:1939002b-b486-45de-b5cc-4cbf7837e18f
X-WR-CALDESC:Details to follow
X-WR-RELCALID:69da67afc7455edfdbb64c97ac610a0e
X-WR-TIMEZONE:America/New_York
BEGIN:VTIMEZONE
TZID:America/New_York
BEGIN:STANDARD
TZNAME:EST
DTSTART:20211107T020000
TZOFFSETFROM:-0400
TZOFFSETTO:-0500
RDATE:20221106T020000
RDATE:20231105T020000
END:STANDARD
BEGIN:DAYLIGHT
TZNAME:EDT
DTSTART:20220313T020000
TZOFFSETFROM:-0500
TZOFFSETTO:-0400
RDATE:20230312T020000
RDATE:20240310T020000
END:DAYLIGHT
END:VTIMEZONE
BEGIN:VEVENT
UID:bc939b31-49f9-4b4e-b18e-254d6cad4bc3
DTSTAMP:20260425T203155Z
DESCRIPTION:Details to follow
DTSTART;TZID=America/New_York:20221007T180000
DTEND;TZID=America/New_York:20221007T230000
LOCATION:Hotel 1620
SUMMARY:Annual Gala
END:VEVENT
END:VCALENDAR
