BEGIN:VCALENDAR
VERSION:2.0
PRODID:-//www.hfhplymouth.org//NONSGML kigkonsult.se iCalcreator 2.30.10//
CALSCALE:GREGORIAN
METHOD:PUBLISH
UID:bf1152c1-f516-40c7-9a65-3ff517b098d9
X-WR-CALDESC:Join us as we create Hope & Independence for a SJS Warrior.
X-WR-RELCALID:1cfd86a682a01cf570c14814dae862e3
X-WR-TIMEZONE:America/New_York
BEGIN:VTIMEZONE
TZID:America/New_York
BEGIN:STANDARD
TZNAME:EST
DTSTART:20211107T020000
TZOFFSETFROM:-0400
TZOFFSETTO:-0500
RDATE:20221106T020000
RDATE:20231105T020000
END:STANDARD
BEGIN:DAYLIGHT
TZNAME:EDT
DTSTART:20220313T020000
TZOFFSETFROM:-0500
TZOFFSETTO:-0400
RDATE:20230312T020000
END:DAYLIGHT
END:VTIMEZONE
BEGIN:VEVENT
UID:3574c7a7-3b1c-49a1-bfdd-9e2ca3620618
DTSTAMP:20260425T234959Z
DESCRIPTION:Join us as we create Hope & Independence for a SJS Warrior.
DTSTART;TZID=America/New_York:20220827T080000
DTEND;TZID=America/New_York:20220827T150000
LOCATION:21 Langford Road\, Plymouth\, MA 02360 US
SUMMARY:Langford Rd\, Plymouth Accessibility Addition
END:VEVENT
END:VCALENDAR
