BEGIN:VCALENDAR
VERSION:2.0
PRODID:-//www.hfhplymouth.org//NONSGML kigkonsult.se iCalcreator 2.30.10//
CALSCALE:GREGORIAN
METHOD:PUBLISH
UID:aefe9ac6-914e-464c-9fb5-1a80199661e9
X-WR-CALDESC:Join us as we create Hope & Independence for a SJS Warrior.
X-WR-RELCALID:74e4775df2cd3041936d1dc3847907df
X-WR-TIMEZONE:America/New_York
BEGIN:VTIMEZONE
TZID:America/New_York
BEGIN:STANDARD
TZNAME:EST
DTSTART:20211107T020000
TZOFFSETFROM:-0400
TZOFFSETTO:-0500
RDATE:20221106T020000
RDATE:20231105T020000
END:STANDARD
BEGIN:DAYLIGHT
TZNAME:EDT
DTSTART:20220313T020000
TZOFFSETFROM:-0500
TZOFFSETTO:-0400
RDATE:20230312T020000
END:DAYLIGHT
END:VTIMEZONE
BEGIN:VEVENT
UID:15a84964-8ccc-4b88-8948-232c5cfc48bc
DTSTAMP:20260425T235342Z
DESCRIPTION:Join us as we create Hope & Independence for a SJS Warrior.
DTSTART;TZID=America/New_York:20220806T080000
DTEND;TZID=America/New_York:20220806T150000
LOCATION:21 Langford Road\, Plymouth\, MA 02360 US
SUMMARY:Langford Rd\, Plymouth Accessibility Addition
END:VEVENT
END:VCALENDAR
