BEGIN:VCALENDAR
VERSION:2.0
PRODID:-//www.hfhplymouth.org//NONSGML kigkonsult.se iCalcreator 2.30.10//
CALSCALE:GREGORIAN
METHOD:PUBLISH
UID:fe57871f-601a-4a5c-a563-5c62308effa1
X-WR-CALDESC:Join us as we create Hope & Independence for a SJS Warrior.
X-WR-RELCALID:6ccdd90274eb2d68089246f17035dafc
X-WR-TIMEZONE:America/New_York
BEGIN:VTIMEZONE
TZID:America/New_York
BEGIN:STANDARD
TZNAME:EST
DTSTART:20211107T020000
TZOFFSETFROM:-0400
TZOFFSETTO:-0500
RDATE:20221106T020000
RDATE:20231105T020000
END:STANDARD
BEGIN:DAYLIGHT
TZNAME:EDT
DTSTART:20220313T020000
TZOFFSETFROM:-0500
TZOFFSETTO:-0400
RDATE:20230312T020000
END:DAYLIGHT
END:VTIMEZONE
BEGIN:VEVENT
UID:0c36f4c6-bb4a-4c81-b780-a6e76444c0bc
DTSTAMP:20260426T012939Z
DESCRIPTION:Join us as we create Hope & Independence for a SJS Warrior.
DTSTART;TZID=America/New_York:20220730T080000
DTEND;TZID=America/New_York:20220730T150000
LOCATION:21 Langford Road\, Plymouth\, MA 02360 US
SUMMARY:Langford Rd\, Plymouth Accessibility Addition
END:VEVENT
END:VCALENDAR
