BEGIN:VCALENDAR
VERSION:2.0
PRODID:-//www.hfhplymouth.org//NONSGML kigkonsult.se iCalcreator 2.30.10//
CALSCALE:GREGORIAN
METHOD:PUBLISH
UID:3867600a-ddee-441b-ad4b-ba7dd95f5160
X-WR-CALDESC:Join us as we create Hope & Independence for a SJS Warrior.
X-WR-RELCALID:473da4ad2f218503563d2029f50720eb
X-WR-TIMEZONE:America/New_York
BEGIN:VTIMEZONE
TZID:America/New_York
BEGIN:STANDARD
TZNAME:EST
DTSTART:20211107T020000
TZOFFSETFROM:-0400
TZOFFSETTO:-0500
RDATE:20221106T020000
RDATE:20231105T020000
END:STANDARD
BEGIN:DAYLIGHT
TZNAME:EDT
DTSTART:20220313T020000
TZOFFSETFROM:-0500
TZOFFSETTO:-0400
RDATE:20230312T020000
END:DAYLIGHT
END:VTIMEZONE
BEGIN:VEVENT
UID:368387a2-5075-4c29-83f9-2721be1547c7
DTSTAMP:20260426T013430Z
DESCRIPTION:Join us as we create Hope & Independence for a SJS Warrior.
DTSTART;TZID=America/New_York:20220716T080000
DTEND;TZID=America/New_York:20220716T150000
LOCATION:21 Langford Road\, Plymouth\, MA 02360 US
SUMMARY:Langford Rd\, Plymouth Accessibility Addition
END:VEVENT
END:VCALENDAR
