BEGIN:VCALENDAR
VERSION:2.0
PRODID:-//www.hfhplymouth.org//NONSGML kigkonsult.se iCalcreator 2.30.10//
CALSCALE:GREGORIAN
METHOD:PUBLISH
UID:776b02c4-d59c-40a5-856a-c9131c6c7ef0
X-WR-CALDESC:Join us as we create Hope & Independence for a SJS Warrior.
X-WR-RELCALID:5bd28fb6c19ddc2c922993ab1b877816
X-WR-TIMEZONE:America/New_York
BEGIN:VTIMEZONE
TZID:America/New_York
BEGIN:STANDARD
TZNAME:EST
DTSTART:20211107T020000
TZOFFSETFROM:-0400
TZOFFSETTO:-0500
RDATE:20221106T020000
RDATE:20231105T020000
END:STANDARD
BEGIN:DAYLIGHT
TZNAME:EDT
DTSTART:20220313T020000
TZOFFSETFROM:-0500
TZOFFSETTO:-0400
RDATE:20230312T020000
END:DAYLIGHT
END:VTIMEZONE
BEGIN:VEVENT
UID:b5d8082a-1446-4224-96bd-b32c10521d57
DTSTAMP:20260426T013522Z
DESCRIPTION:Join us as we create Hope & Independence for a SJS Warrior.
DTSTART;TZID=America/New_York:20220702T080000
DTEND;TZID=America/New_York:20220702T150000
LOCATION:21 Langford Road\, Plymouth\, MA 02360 US
SUMMARY:Langford Rd\, Plymouth Accessibility Addition
END:VEVENT
END:VCALENDAR
