BEGIN:VCALENDAR
VERSION:2.0
PRODID:-//www.hfhplymouth.org//NONSGML kigkonsult.se iCalcreator 2.30.10//
CALSCALE:GREGORIAN
METHOD:PUBLISH
UID:ff7fd3c0-49cc-4303-a0f7-1102bcdc145f
X-WR-CALDESC:After two years off\, we are excited to bring back our Ride fo
 r Homes event!\n\nThe route will begin and end at the Middleboro VFW.  \nC
 heck-In begins at 10 AM\; KSU at 12 Noon.  \nAfter the ride\, enjoy music\
 , lunch\, raffles and great camaraderie! \n\n$20 per rider and $10 per pas
 senger. \nLunch and T-shirts will be available for purchase. \n\nAll proce
 eds benefit Habitat for Humanity of Greater Plymouth and all are welcome! 
 \nPlease share with everyone you know in the biking community and those wh
 o might be interested in joining us as we hit the road on May 7th.
X-WR-RELCALID:fc36258091c93211351c2a8872b42480
X-WR-TIMEZONE:America/New_York
BEGIN:VTIMEZONE
TZID:America/New_York
BEGIN:STANDARD
TZNAME:EST
DTSTART:20211107T020000
TZOFFSETFROM:-0400
TZOFFSETTO:-0500
RDATE:20221106T020000
RDATE:20231105T020000
END:STANDARD
BEGIN:DAYLIGHT
TZNAME:EDT
DTSTART:20220313T020000
TZOFFSETFROM:-0500
TZOFFSETTO:-0400
RDATE:20230312T020000
END:DAYLIGHT
END:VTIMEZONE
BEGIN:VEVENT
UID:c2e40ae0-7e27-4b20-be25-0f548842b078
DTSTAMP:20260426T043326Z
DESCRIPTION:After two years off\, we are excited to bring back our Ride for
  Homes event!\n\nThe route will begin and end at the Middleboro VFW.  \nCh
 eck-In begins at 10 AM\; KSU at 12 Noon.  \nAfter the ride\, enjoy music\,
  lunch\, raffles and great camaraderie! \n\n$20 per rider and $10 per pass
 enger. \nLunch and T-shirts will be available for purchase. \n\nAll procee
 ds benefit Habitat for Humanity of Greater Plymouth and all are welcome! 
 \nPlease share with everyone you know in the biking community and those wh
 o might be interested in joining us as we hit the road on May 7th.
DTSTART;TZID=America/New_York:20220507T000000
DTEND;TZID=America/New_York:20220507T235900
LOCATION:12 Station Street\, Middleboro VFW\, Middleboro\, MA 02330 US
SUMMARY:Ride for Homes 2022
END:VEVENT
END:VCALENDAR
